BEGIN:VCALENDAR
VERSION:2.0
PRODID:-//wp-events-plugin.com//7.2.3.1//EN
BEGIN:VEVENT
UID:4@scbx.com
DTSTART;TZID=Asia/Bangkok:20260422T153000
DTEND;TZID=Asia/Bangkok:20260422T160000
DTSTAMP:20260421T050743Z
URL:https://www.scbx.com/en/rd-events/sea-blockchain-2026-agentic-economy/
SUMMARY:Southeast Asia Blockchain Week 2026 Press Conference: Agentic Econo
 my
DESCRIPTION:The SEABW 2026 press conference brings together key industry pl
 ayers to unveil the event’s vision\, highlights\, and strategic directio
 n for Southeast Asia’s blockchain future. Featuring insights from ShardL
 ab\, SCBX\, and Bitkub\, it sets the stage for advancing the region’s We
 b3 ecosystem.\nRegister here
ATTACH;FMTTYPE=image/jpeg:https://www.scbx.com/wp-content/uploads/2026/04/
 Sea-Agentic-Economy.jpg
LOCATION:https://www.google.com/maps/place/ZillaSpace/@13.720511,100.560067
 8,17z/data=!4m6!3m5!1s0x30e29feae3f506b3:0x1935f8a03f6f5eff!8m2!3d13.72051
 1!4d100.5600678!16s%2Fg%2F11t8pzlk5w?entry=ttu&g_ep=EgoyMDI2MDQxNS4wIKXMDS
 oASAFQAw%3D%3D
END:VEVENT
BEGIN:VTIMEZONE
TZID:Asia/Bangkok
X-LIC-LOCATION:Asia/Bangkok
BEGIN:STANDARD
DTSTART:20250422T153000
TZOFFSETFROM:+0700
TZOFFSETTO:+0700
TZNAME:+07
END:STANDARD
END:VTIMEZONE
END:VCALENDAR