BEGIN:VCALENDAR
VERSION:2.0
PRODID:-//wp-events-plugin.com//7.2.3.1//EN
BEGIN:VEVENT
UID:5@scbx.com
DTSTART;TZID=Asia/Bangkok:20260423T191500
DTEND;TZID=Asia/Bangkok:20260423T200000
DTSTAMP:20260421T051448Z
URL:https://www.scbx.com/en/rd-events/future-money-asia/
SUMMARY:The Future of Money is Asia : Emerging Fintech Innovations – Mapp
 ing the next financial landscape
DESCRIPTION:The Future of Money is Asia brings top fintech and Web3 leaders
  together in Bangkok to explore how Asia is shaping the next era of financ
 e through innovation\, real-world use cases\, and cross-border collaborati
 on.\nRegister here
ATTACH;FMTTYPE=image/jpeg:https://www.scbx.com/wp-content/uploads/2026/04/
 FutureMoney-Asia.jpg
LOCATION:https://www.google.com/maps/place/Siam+Paragon/@13.7461354,100.532
 2043,17z/data=!4m14!1m7!3m6!1s0x30e29ecde3aee521:0x9f43939a2caf2963!2sSiam
 +Paragon!8m2!3d13.7461302!4d100.5347792!16zL20vMDltbWho!3m5!1s0x30e29ecde3
 aee521:0x9f43939a2caf2963!8m2!3d13.7461302!4d100.5347792!16zL20vMDltbWho?e
 ntry=ttu&g_ep=EgoyMDI2MDQxNS4wIKXMDSoASAFQAw%3D%3D
END:VEVENT
BEGIN:VTIMEZONE
TZID:Asia/Bangkok
X-LIC-LOCATION:Asia/Bangkok
BEGIN:STANDARD
DTSTART:20250423T191500
TZOFFSETFROM:+0700
TZOFFSETTO:+0700
TZNAME:+07
END:STANDARD
END:VTIMEZONE
END:VCALENDAR